BEGIN:VCALENDAR
BEGIN:VEVENT
DTSTART:20260227T220000Z
DTEND:20260228T003000Z
SUMMARY:Korean Speech Contest
DESCRIPTION:Join us for the 2026 Korean Speech Contest !




Learn More
LOCATION:435 St. Patrick&#039;s Building, Carleton University, 1125 Colonel By Dr, Ottawa, ON K1S 5B6
URL:
END:VEVENT
END:VCALENDAR