BEGIN:VCALENDAR
BEGIN:VEVENT
DTSTART:20260228T180000Z
DTEND:20260228T210000Z
SUMMARY:Japanese Speech Contest (Ottawa)
DESCRIPTION:Support your classmates as they compete in the 37th Japanese Speech Contest at the Embassy of Japan in Ottawa!
LOCATION:Embassy of Japan, 255 Sussex Drive, Ottawa, ON, Canada K1N 9E6
URL:
END:VEVENT
END:VCALENDAR