BEGIN:VCALENDAR
BEGIN:VEVENT
DTSTART:20210318T183000Z
DTEND:20210318T200000Z
SUMMARY:Employee Well-being in Times of COVID-19: Overview of Key Findings
DESCRIPTION:Thursday, March 18th, 2:30-4PM



MeWeRTH is proud to present a keynote address from Dr. Linda Duxbury&nbsp;on:



Employee Wellbeing in Times of COVID-19: Overview of Key Findings - Carleton University



COVID-19 has resulted in unprecedented work/life situations for employees across Canada, and Carleton is no different. These challenges are particularly evident for those who are faced with the challenge of being productive for work while also providing care and home-schooling to their children, and/or care to elderly parents who are particularly vulnerable to health complications from COVID-19.



This talk reports on the key findings from our analysis of the data provided by the 1018 Carleton Employees who responded to the Employee Wellbeing in Times of COVID-19 study.



This talk is open to anyone in the Carleton community. Please register for the event using a Carleton email address in the form below:



Registration is now closed. Thank you to all those who registered!
LOCATION:Carleton University, 1125 Colonel By Dr, Ottawa, ON K1S 5B6
URL:
END:VEVENT
END:VCALENDAR