BEGIN:VCALENDAR
BEGIN:VEVENT
DTSTART:20230403T233000Z
DTEND:20230403T040000Z
SUMMARY:Intercultural Music Ensemble Concert
DESCRIPTION:Directed by Artist in Resident: Hooshyar Khayam



The Winter 2023 concert series is free-of-charge and open to all.



Watch it live at this link



Us the QR code for the Program:
LOCATION:Carleton University, 1125 Colonel By Dr, Ottawa, ON K1S 5B6
URL:
END:VEVENT
END:VCALENDAR