BEGIN:VCALENDAR
BEGIN:VEVENT
DTSTART:20260313T180000Z
DTEND:20260313T210000Z
SUMMARY:Commissioning and Performing New Music w/ Beverley Mckiver &amp; Ryan Baxter
DESCRIPTION:Friday, March 13, 2026 from 3:00pm-5:00pm



Upcoming EventA900 LA, Carleton University



Cost: Free
LOCATION:Kailash Mital Theatre Southam Hall (Kailash Mital Theatre), Carleton University, 1125 Colonel By Dr, Ottawa, ON K1S 5B6
URL:
END:VEVENT
END:VCALENDAR