BEGIN:VCALENDAR
BEGIN:VEVENT
DTSTART:20260430T220000Z
DTEND:20260430T230000Z
SUMMARY:Lecture Recital: Ella Latta Suazo
DESCRIPTION:What can music bring to peacebuilding?



What can peacebuilding bring to music



When the world is divided, what new futures can we imagine?
LOCATION:Kailash Mital Theatre Southam Hall (Kailash Mital Theatre), Carleton University, 1125 Colonel By Dr, Ottawa, ON K1S 5B6
URL:
END:VEVENT
END:VCALENDAR