BEGIN:VCALENDAR
BEGIN:VEVENT
DTSTART:20241120T230000Z
DTEND:20241121T030000Z
SUMMARY:Protecting Democracy in the Modern Age
DESCRIPTION:
LOCATION:Atrium &amp; Lecture Theatre Richcraft Hall, Carleton University, 1125 Colonel By Dr, Ottawa, ON K1S 5B6
URL:
END:VEVENT
END:VCALENDAR