BEGIN:VCALENDAR
BEGIN:VEVENT
DTSTART:20241108T230000Z
DTEND:20241109T030000Z
SUMMARY:2024 Pinning Ceremony
DESCRIPTION:
LOCATION:Carleton University, 1125 Colonel By Dr, Ottawa, ON K1S 5B6
URL:
END:VEVENT
END:VCALENDAR