BEGIN:VCALENDAR
BEGIN:VEVENT
DTSTART:20250902T190000Z
DTEND:20250902T210000Z
SUMMARY:2025 New MPM Student Orientation
DESCRIPTION:Welcome Event for Incoming Political Management Students



New MPM students are invited to join us for an exciting in-person orientation as we kick off the academic year for the Master of Political Management students!



This engaging afternoon will give new students the opportunity to:




Learn about program expectations,



Identify key points of contacts,



Important dates and deadlines,



Connect with fellow cohort members, and



Meet the faculty and staff who will support them throughout their academic journey




The day will conclude with a special evening reception to welcome everyone from the Political Management community.
LOCATION:Carleton University, 1125 Colonel By Dr, Ottawa, ON K1S 5B6
URL:
END:VEVENT
END:VCALENDAR