BEGIN:VCALENDAR
BEGIN:VEVENT
DTSTART:20250902T210000Z
DTEND:20250903T000000Z
SUMMARY:2025 Orientation Reception
DESCRIPTION:We welcome the 2025 incoming cohort of graduate students with an evening orientation reception held downtown Ottawa.&nbsp; The event is open to incoming and current MPM students, faculty members, program fellows, and alumni. Limited capacity available, registration required.



If you are interested in attending but have not received an invitation, please contact mpm@carleton.ca.
LOCATION:Carleton University, 1125 Colonel By Dr, Ottawa, ON K1S 5B6
URL:
END:VEVENT
END:VCALENDAR