BEGIN:VCALENDAR
BEGIN:VEVENT
DTSTART:20251027T160000Z
DTEND:20251027T173000Z
SUMMARY:Polling in Crisis? The Good, the Bad, and the Ugly...
DESCRIPTION:REGISTER HERE


Join us for an engaging Q&amp;A session with Allan Gregg, one of Canada’s most respected pollsters, political advisors, and media personalities.











Discover the origins of his career, from his early days using Carleton University&#039;s mainframe for polling, through advising political leaders Joe Clark and Brian Mulroney, to pioneering the commercial and media side of public opinion research. Explore his reflections on how polling evolved from an elite tool to a widely used commodity, and hear his insights on the future of polling amid big data and social media analytics. This event promises a rare opportunity to learn firsthand from Gregg’s decades of experience across more than 50 election campaigns, strategic communications, and his unique perspective on Canadian politics and leadership. Do not miss this chance to gain invaluable lessons from a pioneer in the field.



Register now for this thought-provoking conversation!


REGISTER HERE
LOCATION:Carleton University, 1125 Colonel By Dr, Ottawa, ON K1S 5B6
URL:
END:VEVENT
END:VCALENDAR