BEGIN:VCALENDAR
BEGIN:VEVENT
DTSTART:20251126T170000Z
DTEND:20251126T174500Z
SUMMARY:Virtual Application Information Session
DESCRIPTION:Watch the Recording: Virtual Information Session


Join our upcoming virtual information session designed for prospective graduate students interested in the Master of Political Management (MPM) program. Learn firsthand about the program’s unique features, including experiential learning opportunities, faculty expertise, and career pathways in political management. This interactive session also covers the admissions process and available funding options to help you apply successfully. Do not miss this chance to connect with the program team to explore how MPM can advance your career in public and political sectors.
LOCATION:Carleton University, 1125 Colonel By Dr, Ottawa, ON K1S 5B6
URL:
END:VEVENT
END:VCALENDAR