BEGIN:VCALENDAR
BEGIN:VEVENT
DTSTART:20160108T183000Z
DTEND:20160108T050000Z
SUMMARY:Ph.D. Thesis Defence: Rebecca Mugford
DESCRIPTION:Thesis Title: Using Classification Trees to Link Serial Crimes



Thesis Supervisor: Dr. Craig Bennell
LOCATION:Loeb Building, Carleton University, 1125 Colonel By Dr, Ottawa, ON K1S 5B6
URL:
END:VEVENT
END:VCALENDAR