BEGIN:VCALENDAR
BEGIN:VEVENT
DTSTART:20230427T170000Z
DTEND:20230427T040000Z
SUMMARY:Master&#039;s Thesis Defence: Abby Bradley
DESCRIPTION:Thesis Title: Links Between Self-Control, Cannabis Use and Methods of Consumption in University Students Who Use Alcohol: A 14-week Longitudinal Study 




Thesis Supervisor: Dr. Andrea Howard
LOCATION:Carleton University, 1125 Colonel By Dr, Ottawa, ON K1S 5B6
URL:
END:VEVENT
END:VCALENDAR