BEGIN:VCALENDAR
BEGIN:VEVENT
DTSTART:20240730T040000Z
DTEND:20240730T040000Z
SUMMARY:M.A. Thesis Examination: Rachel McGinn
DESCRIPTION:Title: Therapist Factors on Autistic Children&#039;s Socioemotional Outcomes After Participating in a Cognitive Behavioural Intervention



Advisor: Dr. Vivian Lee
LOCATION:Carleton University, 1125 Colonel By Dr, Ottawa, ON K1S 5B6
URL:
END:VEVENT
END:VCALENDAR