BEGIN:VCALENDAR
BEGIN:VEVENT
DTSTART:20260505T150000Z
DTEND:20260505T170000Z
SUMMARY:MA Defence: Lara Comisso
DESCRIPTION:Title: Processing a Triggering Memory During a &quot;Brainspotting&quot; Session: Effects of EEG-Based Microstate Features and Heart Rate Variability 



Advisor: Dr. Andrea Howard &amp; Dr. Natalia Jaworska
LOCATION:Loeb Building, Carleton University, 1125 Colonel By Dr, Ottawa, ON K1S 5B6
URL:
END:VEVENT
END:VCALENDAR