BEGIN:VCALENDAR
BEGIN:VEVENT
DTSTART:20260428T163000Z
DTEND:20260428T183000Z
SUMMARY:MA Defence: Alexandra Doiron
DESCRIPTION:Title: Encoding Emotion Differently: Investigating ERP Correlates of Emotional Memory in Anxiety and Depression 



Advisor: Dr. Cassandra Morrison
LOCATION:Loeb Building, Carleton University, 1125 Colonel By Dr, Ottawa, ON K1S 5B6
URL:
END:VEVENT
END:VCALENDAR