BEGIN:VCALENDAR
BEGIN:VEVENT
DTSTART:20260429T140000Z
DTEND:20260429T160000Z
SUMMARY:MA Defence: Maddy Emond
DESCRIPTION:Title: The Impact of Self-Censorship on Working Memory 



Advisor: Dr. Guy Lacroix
LOCATION:Loeb Building, Carleton University, 1125 Colonel By Dr, Ottawa, ON K1S 5B6
URL:
END:VEVENT
END:VCALENDAR