BEGIN:VCALENDAR
BEGIN:VEVENT
DTSTART:20260505T140000Z
DTEND:20260505T160000Z
SUMMARY:MA Defence: Zachary Lair
DESCRIPTION:Title: Deciding When to Use Deadly Force: An Examination of Police and Public Assessments of Lethal Force Decisions During Direct and Indirect Threat Scenarios 



Advisor: Dr. Craig Bennell &amp; Dr. Simon Baldwin
LOCATION:Loeb Building, Carleton University, 1125 Colonel By Dr, Ottawa, ON K1S 5B6
URL:
END:VEVENT
END:VCALENDAR