BEGIN:VCALENDAR
BEGIN:VEVENT
DTSTART:20260511T140000Z
DTEND:20260511T160000Z
SUMMARY:PhD Prospectus: Rachel Sharp
DESCRIPTION:Title: Beyond Diagnosis: Understanding the Bullying Experiences of Autistic Children and Adolescents through an Ecological Lens



Advisor: Dr. Vivian Lee
LOCATION:Loeb Building, Carleton University, 1125 Colonel By Dr, Ottawa, ON K1S 5B6
URL:
END:VEVENT
END:VCALENDAR