BEGIN:VCALENDAR
BEGIN:VEVENT
DTSTART:20260504T140000Z
DTEND:20260504T160000Z
SUMMARY:MA Defence: Charlotte Girard
DESCRIPTION:Title: Strengthening Attendance and Well-Being Among Students with ADHD: The Consistent Role of Teacher-Student Relationships 



Advisor: Dr. Maria Rogers
LOCATION:Loeb Building, Carleton University, 1125 Colonel By Dr, Ottawa, ON K1S 5B6
URL:
END:VEVENT
END:VCALENDAR