BEGIN:VCALENDAR
BEGIN:VEVENT
DTSTART:20260522T160000Z
DTEND:20260522T183000Z
SUMMARY:MA Prospectus: Joelle Pagacz
DESCRIPTION:Title: Sextortion Victimization and Perpetration: A SystematicReview and Meta-Analyses of Prevalence Rates



Advisor: Dr. Kelly Babchishin &amp; Dr. Michael Seto
LOCATION:Loeb Building, Carleton University, 1125 Colonel By Dr, Ottawa, ON K1S 5B6
URL:
END:VEVENT
END:VCALENDAR