BEGIN:VCALENDAR
BEGIN:VEVENT
DTSTART:20230305T233000Z
DTEND:20230306T013000Z
SUMMARY:Celebrating the Black Canadian Experience: An Evening of Poetry - March 5, 2023
DESCRIPTION:Celebrating the Black Canadian Experience: An&nbsp;Evening of Poetry - March 5, 2023



Join the Umoja Black Community Engagement Program and the Institute of African Studies for an evening of poetry! The theme for the evening is &quot;The Black Experience,&quot; where we will hear from local and student poets about the good and bad of experiencing Blackness and celebrating our differences.



This event is free and closed to students, staff and community members who identify as African, Caribbean, or Black.



Sunday, March 5, 2023
Time: 6:30pm - 8:30pm
Location: Carleton University Art Gallery















The&nbsp;accessibility icon toolkit was created in partnership and consultation with the Paul Menton Centre to provide indicators to allow students to navigate events more effectively.



Questions



Please email us at umoja@carleton.ca&nbsp;with any questions you may have.


Register
LOCATION:182 St. Patrick&#039;s Building, Carleton University, 1125 Colonel By Dr, Ottawa, ON K1S 5B6
URL:
END:VEVENT
END:VCALENDAR