BEGIN:VCALENDAR
BEGIN:VEVENT
DTSTART:20231010T160000Z
DTEND:20231010T170000Z
SUMMARY:CU Pride Festival 2023 Opening Ceremony
DESCRIPTION:The official Opening Ceremony for CU Pride Festival 2023!



Join us on Tuesday, October 10th as we officially launch CU Pride Festival 2023 with the raising of the Pride Flag during the&nbsp;Opening Ceremony!&nbsp;&nbsp;



&nbsp;The flag will be raised on Library Road, beside the Carleton University Pride Crosswalk, outside of Azrieli Theatre.&nbsp;



&nbsp;As we raise the Pride Flag, we will be joined by Sadie Messines Tobias, a 2 Spirited Elder of the Golden Eagle Clan, who will provide a land acknowledgement and opening prayer, along with Theo Paradis of the Bear Clan, who will provide drumming and singing for the flag raising.&nbsp;



&nbsp;We will also be hearing from community leaders such as Government Officials, Dr. Pauline Rankin, and the Gender and Sexuality Resource Centre (GSRC) Coordinators.&nbsp;



&nbsp;This event is open to everyone (students, staff, faculty, alumni, community members etc.).&nbsp;&nbsp;



This event is brought to you by the Student Experience Office (SEO), the Carleton University Students Association (CUSA), and the Centre for Indigenous Support and Community Engagement (CISCE).&nbsp;
LOCATION:Carleton University, 1125 Colonel By Dr, Ottawa, ON K1S 5B6
URL:
END:VEVENT
END:VCALENDAR