BEGIN:VCALENDAR
BEGIN:VEVENT
DTSTART:20221121T230000Z
DTEND:20221122T003000Z
SUMMARY:All about Working Holiday &amp; Teaching English in Korea
DESCRIPTION:
LOCATION:1301 Health Sciences Building, Carleton University, 1125 Colonel By Dr, Ottawa, ON K1S 5B6
URL:
END:VEVENT
END:VCALENDAR