BEGIN:VCALENDAR
BEGIN:VEVENT
DTSTART:20230303T230000Z
DTEND:20230303T050000Z
SUMMARY:2nd Carleton University Korean Speech Contest &amp; Karaoke night (in-person)
DESCRIPTION:The Korean language program at Carleton University will host the second Korean speech contest on the Carleton campus.



This contest aims to raise awareness of Korean culture and enhance communication competence at Carleton.



The top three winners will receive a cash prize, graciously gifted by the&nbsp;&nbsp;2023&nbsp;Korean Studies Grant Program of the Academy of Korean Studies.



They will also have the opportunity to participate in the Toronto Korean Speech Contest to be held on March 18, 2023 (in person).



* The speech contest will be followed by a light meal and karaoke.




Time: 6:00 p.m. (Speech Contest) and 7:30 p.m. (dinner and karaoke), March 3 (Friday), 2023



Place: Room 303 at St. Patrick’s building
LOCATION:303 St. Patrick&#039;s Building, Carleton University, 1125 Colonel By Dr, Ottawa, ON K1S 5B6
URL:
END:VEVENT
END:VCALENDAR