BEGIN:VCALENDAR
BEGIN:VEVENT
DTSTART:20251015T184000Z
DTEND:20251015T194000Z
SUMMARY:Applied Linguistics and Discourse Studies Graduate Programs Information Session
DESCRIPTION:This time of year you are likely making plans for the future, and many of you may be considering graduate school.



Carleton offers Masters and PhD programs in&nbsp;Applied Linguistics and Discourse Studies (ALDS). If you would like to find out more about our graduate programs in ALDS, then please join us for an information session on October 15 from 2:40 to 3:40PM. We will be hosting this event in 303 Southam Hall, and attendees can join us in person or online.



There will be a brief presentation about opportunities to study at the graduate level, and a chance to ask questions.



Please register using the form below.



Registration
LOCATION:303 Southam Hall (Kailash Mital Theatre), Carleton University, 1125 Colonel By Dr, Ottawa, ON K1S 5B6
URL:
END:VEVENT
END:VCALENDAR