BEGIN:VCALENDAR
BEGIN:VEVENT
DTSTART:20251007T220000Z
DTEND:20251008T000000Z
SUMMARY:CATL Jackbox Games Night
DESCRIPTION:Drop by the Health Sciences Building room 1301 on October 7 from 6:00 to 8:00PM to meet fellow LING, ALDS, and language-loving students, play Jackbox games, and have a great time.



The Carleton Applied and Theoretical Linguistics Society (CATL) is the undergraduate student society for the School of Linguistics and Language Studies (SLaLS). Click here to learn more about students groups in SLaLS.
LOCATION:1301 Health Sciences Building, Carleton University, 1125 Colonel By Dr, Ottawa, ON K1S 5B6
URL:
END:VEVENT
END:VCALENDAR