BEGIN:VCALENDAR
BEGIN:VEVENT
DTSTART:20251106T220000Z
DTEND:20251107T000000Z
SUMMARY:SALaDS&#039; November Hang
DESCRIPTION:Please join the graduate student Society of Applied Linguistics and Discourse Studies (SALaDS) at Ollie&#039;s Pub and Patio on the first floor of Nideyinàn on Thursday, November 6 at 5:00 p.m.



Come out to meet and chat with your fellow students, faculty, and staff in a fun and informal setting. All are welcome to attend.
LOCATION:Ollie&#039;s Pub and Patio (1st floor) Nideyinàn, Carleton University, 1125 Colonel By Dr, Ottawa, ON K1S 5B6
URL:
END:VEVENT
END:VCALENDAR