BEGIN:VCALENDAR
BEGIN:VEVENT
DTSTART:20251128T200000Z
DTEND:20251128T213000Z
SUMMARY:Adventskaffee
DESCRIPTION:You are invited to German Adventskaffee on Friday, November 28 from 3:00 - 4:30PM in 306 St. Patrick&#039;s Building.



There will be cookies, crafts, and prizes. Bring your own coffee/tea!
LOCATION:306 St. Patrick&#039;s Building, Carleton University, 1125 Colonel By Dr, Ottawa, ON K1S 5B6
URL:
END:VEVENT
END:VCALENDAR