BEGIN:VCALENDAR
BEGIN:VEVENT
DTSTART:20260428T220000Z
DTEND:20260429T010000Z
SUMMARY:TiE Ottawa - Hard to Kill: Mike Nelson, Founder &amp; CEO of Tactql on Building a Successful Defence Company in Canada
DESCRIPTION:
LOCATION:1993 Robertson Rd, Ottawa, Nepean, ON, Canada K2H 5B7
URL:
END:VEVENT
END:VCALENDAR