BEGIN:VCALENDAR
BEGIN:VEVENT
DTSTART:20241105T050000Z
DTEND:20241112T050000Z
SUMMARY:MacOdrum Library&#039;s 2024 Online Auction for the United Way
DESCRIPTION:MacOdrum Library&#039;s 2024 Online Auction for the United Way
The Library’s online auction including the amazing departmental theme baskets is back. If you would like to contribute an item, we are looking for gift cards/e-cards, handmade items, new store-bought items, never used items, etc.

The MacOdrum Library annual auction runs from Nov. 5-12. Check out the variety of great items. To see the auction items please register here. If you are using a Carleton email, log into the site using your yourname@cunet.carleton.ca email. Payment will be made using credit cards only. 

If you have any questions, please contact Angela Hayward. 

Your generosity and participation are greatly appreciated.

&nbsp;
LOCATION:MacOdrum Library, Carleton University, 1125 Colonel By Dr, Ottawa, ON K1S 5B6
URL:
END:VEVENT
END:VCALENDAR